BEGIN:VCALENDAR
VERSION:2.0
PRODID:icalendar-ruby
CALSCALE:GREGORIAN
METHOD:PUBLISH
BEGIN:VEVENT
DTSTAMP:20200228T110240Z
UID:http://www.flexrealty.com.au/property?property_id=328654
DTSTART:20190223T083000
DTEND:20190223T090000
CLASS:PUBLIC
CREATED:20190109T124353
DESCRIPTION: 
LAST-MODIFIED:20190508T082407
LOCATION:18 Seaview Avenue\, PARKLANDS TAS 7320\, Australia
SUMMARY:18 Seaview Avenue\,  Auction
URL:http://www.flexrealty.com.au/property?property_id=328654
END:VEVENT
END:VCALENDAR
