BEGIN:VCALENDAR
VERSION:2.0
PRODID:icalendar-ruby
CALSCALE:GREGORIAN
METHOD:PUBLISH
BEGIN:VEVENT
DTSTAMP:20200228T105817Z
UID:http://www.flexrealty.com.au/property?property_id=513282
DTSTART:20200208T130000
DTEND:20200208T133000
CLASS:PUBLIC
CREATED:20200110T153301
DESCRIPTION: 
LAST-MODIFIED:20200220T140036
LOCATION:22 Sophia Street\, TULLAH TAS 7321\, Australia
SUMMARY:22 Sophia Street\,  Auction
URL:http://www.flexrealty.com.au/property?property_id=513282
END:VEVENT
END:VCALENDAR
